BEGIN:VCALENDAR
VERSION:2.0
PRODID:-//ATD Vierde Wereld - ECPv6.1.1//NONSGML v1.0//EN
CALSCALE:GREGORIAN
METHOD:PUBLISH
X-ORIGINAL-URL:https://www.atd-vierdewereld.nl
X-WR-CALDESC:Evenementen voor ATD Vierde Wereld
REFRESH-INTERVAL;VALUE=DURATION:PT1H
X-Robots-Tag:noindex
X-PUBLISHED-TTL:PT1H
BEGIN:VTIMEZONE
TZID:Europe/Amsterdam
BEGIN:DAYLIGHT
TZOFFSETFROM:+0100
TZOFFSETTO:+0200
TZNAME:CEST
DTSTART:20200329T010000
END:DAYLIGHT
BEGIN:STANDARD
TZOFFSETFROM:+0200
TZOFFSETTO:+0100
TZNAME:CET
DTSTART:20201025T010000
END:STANDARD
BEGIN:DAYLIGHT
TZOFFSETFROM:+0100
TZOFFSETTO:+0200
TZNAME:CEST
DTSTART:20210328T010000
END:DAYLIGHT
BEGIN:STANDARD
TZOFFSETFROM:+0200
TZOFFSETTO:+0100
TZNAME:CET
DTSTART:20211031T010000
END:STANDARD
BEGIN:DAYLIGHT
TZOFFSETFROM:+0100
TZOFFSETTO:+0200
TZNAME:CEST
DTSTART:20220327T010000
END:DAYLIGHT
BEGIN:STANDARD
TZOFFSETFROM:+0200
TZOFFSETTO:+0100
TZNAME:CET
DTSTART:20221030T010000
END:STANDARD
BEGIN:DAYLIGHT
TZOFFSETFROM:+0100
TZOFFSETTO:+0200
TZNAME:CEST
DTSTART:20230326T010000
END:DAYLIGHT
BEGIN:STANDARD
TZOFFSETFROM:+0200
TZOFFSETTO:+0100
TZNAME:CET
DTSTART:20231029T010000
END:STANDARD
END:VTIMEZONE
BEGIN:VEVENT
DTSTART;VALUE=DATE:20201017
DTEND;VALUE=DATE:20201018
DTSTAMP:20260426T031321
CREATED:20200907T195632Z
LAST-MODIFIED:20201014T202705Z
UID:10376-1602892800-1602979199@www.atd-vierdewereld.nl
SUMMARY:Werelddag van verzet tegen extreme armoede
DESCRIPTION:  \nActiviteiten op 17 oktober 2020: \n\nDen Haag: Doorlopende filmvertoningen en soep bij het Landelijk Centrum van ATD Vierde Wereld (Regentesseplein 13)\, vanaf 13.00 uur.\nHeerlen: Voorstelling ‘Zie de Mens‘ van de Joseph Wresinski Cultuur Stichting.\nNijmegen: Zondag 18 oktober ca. 11.15 uur (na de kerkdienst) op het plein voor de Titus Brandsma gedachteniskerk een korte samenkomst bij de plek waar in 2017 een tegel is geplaatst op de Vredesmuur met een citaat van Wresinski: ´Ons enige wapen is liefde voor de mensheid\, hartstocht voor gerechtigheid en vrede.’ Keizer Karelplein 19\, Nijmegen. Voor meer informatie: titusbrandsma@karmel.nl.\nUtrecht: Grote Utrecht Stadsdiner – een divers programma rond verhalen en dialoog over arm en rijk in stadsbibliotheek Neude vanaf 14 uur. Zie ook www.bibliotheekutrecht.nl.\n\n\nGetuigenis 17 oktober en toelichting bij het thema: \nDe erkenning groeit dat armoede vele kanten heeft. Dit betekent ook dat duurzaamheid en armoede onlosmakelijk met elkaar verweven zijn. Wereldwijd blijft de situatie van het milieu verslechteren. Herstel en beperking van schade aan onze leefomgeving ontbreekt vaak. \nDit is een urgent probleem dat het leven van iedereen verandert. De wereld raakt meer en meer vergiftigd en beschadigd. We blijven vitale natuurlijke hulpbronnen verkeerd beheren en uitbuiten. Dit geldt voor land\, zoet water en onze oceanen. Dit heeft een grote invloed op het levensonderhoud\, de voedselzekerheid en de gezondheid van mensen die in armoede leven. \nDe maatregelen van de VN kunnen er voor zorgen dat de klimaatdoelen in 2030 worden bereikt – met inbegrip van de sociaal-economische antwoorden op de wereldwijde pandemie – als die krachtig en volledig gericht zijn op armoedebestrijding en het zoeken naar wegen om de leefomgeving te herstellen.
URL:https://www.atd-vierdewereld.nl/event/17-oktober-werelddag-van-verzet-tegen-extreme-armoede/
END:VEVENT
BEGIN:VEVENT
DTSTART;VALUE=DATE:20221017
DTEND;VALUE=DATE:20221018
DTSTAMP:20260426T031321
CREATED:20221010T192423Z
LAST-MODIFIED:20221010T192934Z
UID:11971-1665964800-1666051199@www.atd-vierdewereld.nl
SUMMARY:'Mijn Hand-Tekening tegen Armoede'
DESCRIPTION:Allemaal samen tegen (Extreme) Armoede!! \nHet maakt niet uit welke taal we spreken\, of we kunnen schrijven of nog niet.. Doe mee met deze uitdaging! Verzamel zoveel mogelijk Hand-Tekening(en) in 17 dagen (van 1 t/m 17-10-2022)… En op 17 oktober\, om 17.00 uur\, als onderdeel van de Werelddag van verzet tegen Extreme Armoede\, zullen we ze publiceren op de FB-pagina van ATD Vierde Wereld Nederland uit solidariteit met al diegenen die dagelijks strijden tegen de Armoede. \nDOE JE MEE? \nStuur je Hand-Tekening maar naar Sue (ATD Medewerker):\nzwervel.atd@gmail.com\nof naar:  \n‘t Zwervel – t.a.v Sue Siapo Page\nRaalterweg 17 \, 8131SB – Wijhe\n(inleveren ook mogelijk) \nmeer info:\nVN Werelddag Verzet extreme armoede (17 oktober) – ATD Vierde Wereld (atd-vierdewereld.nl)
URL:https://www.atd-vierdewereld.nl/event/mijn-hand-tekening-tegen-armoede/
LOCATION:’t Zwervel in Wijhe
ORGANIZER;CN="Lokale%20groep%20ATD%20Vierde%20Wereld%20Salland":MAILTO:zwervel.atd@gmail.com
END:VEVENT
BEGIN:VEVENT
DTSTART;TZID=Europe/Amsterdam:20230916T110000
DTEND;TZID=Europe/Amsterdam:20230916T160000
DTSTAMP:20260426T031321
CREATED:20230906T154550Z
LAST-MODIFIED:20230906T160932Z
UID:12169-1694862000-1694880000@www.atd-vierdewereld.nl
SUMMARY:Landelijke ontmoetingsdag 16 September.
DESCRIPTION:Uitnodiging landelijke ontmoetingsdag 16 september 2023 0p ’t Zwervel  \nMet een afvaardiging van 10 leden van ATD Nederland hebben we 18 19 en 20 Augustus in Frankrijk samen gewerkt met het internationaal en Europees Team. \nHet onderwerp was willen we doorgaan met ’t Zwervel en willen we verantwoordelijkheid daarvoor dragen. \nDe gesprekken op deze ontmoetingsdag zullen een vervolg zijn op dit onderwerp. Voor kinderen is er een alternatief programma. \n\n11.00 -11.30 uur ontvangst met koffie/thee\n11.30 uur Verslag van het weekeind met het internationaal secretariaat.\n12.00 uur\, In kleine groepjes napraten wat dit betekend voor een ieder van ons en voor de beweging in Nederland.\n12.30 uur\, Lunch \n13.00 -1600 uur Als Thema voor het middagprogramma is gekozen.\nVoor de vier kernwoorden die vanuit Mery meegenomen zijn te weten\, Hoopvol Samenwerking Respect en Communicatie.\ngraag vernemen wij voor 10 September of u komt\, in verband met de boodschappen\, of u afgehaald wilt worden van de trein en hoe laat.\nAanmelden graag via. tzwervel.wijhe@atd-vierdewereld.nl \n\nvriendelijke groet interim Nationaal Team
URL:https://www.atd-vierdewereld.nl/event/landelijke-ontmoetingsdag-16-september/
LOCATION:’t Zwervel in Wijhe
ATTACH;FMTTYPE=image/jpeg:https://www.atd-vierdewereld.nl/wp-content/uploads/2023/09/drtty.jpg
END:VEVENT
END:VCALENDAR